BEGIN:VCALENDAR
PRODID:-//172.67.160.126//NONSGML iCalcreator 2.6//
VERSION:2.0
BEGIN:VEVENT
UID:20260420T010208CEST-6977F0t1Sf@172.67.160.126
DTSTAMP:20260420T230208Z
CATEGORIES:Events
DESCRIPTION:
DTSTART:20170717T120000
DTEND:20170731T233000
LOCATION:Merkez Mahallesi\, Marriott\, Şişli/İstanbul\, Türkiye
SUMMARY:Istanbul Marriott Hotel Şişli’de Orta Doğu lezzetleri
END:VEVENT
END:VCALENDAR
