BEGIN:VCALENDAR
PRODID:-//172.67.160.126//NONSGML iCalcreator 2.6//
VERSION:2.0
BEGIN:VEVENT
UID:20260420T170919CEST-4437zbmIB3@172.67.160.126
DTSTAMP:20260420T150919Z
CATEGORIES:Events
DESCRIPTION:
DTSTART:20180408T150000
DTEND:20180408T170000
LOCATION:Istanbul Culinary Studio\, Kodaman Sokak No: 15 D: 6\, NiÅŸantaÅŸÄ
 ± - Ä°stanbul
SUMMARY:Istanbul Culinary Studioâ€™da &#8220\;Gel Mutfakta KonuÅŸalÄ±m&#822
 1\; TadÄ±m ve SÃ¶yleÅŸi
END:VEVENT
END:VCALENDAR
