BEGIN:VCALENDAR
PRODID:-//172.67.160.126//NONSGML iCalcreator 2.6//
VERSION:2.0
BEGIN:VEVENT
UID:20260421T175048CEST-0359juFgUU@172.67.160.126
DTSTAMP:20260421T155048Z
CATEGORIES:Events
DESCRIPTION:
DTSTART:20190622T150000
DTEND:20190622T170000
LOCATION:Esentepe Mahallesi\, Suvla Kanyon\, Kanyon AVM\, Şişli/Istanbul\
 , Turkey
SUMMARY:Suvla Kanyon&#8217\;da Tadım ve Wine Talks
END:VEVENT
END:VCALENDAR
