BEGIN:VCALENDAR
PRODID:-//104.21.33.82//NONSGML iCalcreator 2.6//
VERSION:2.0
BEGIN:VEVENT
UID:20260421T101550CEST-7512SHkLRu@104.21.33.82
DTSTAMP:20260421T081550Z
CATEGORIES:Events
DESCRIPTION:
DTSTART:20240201T170000
DTEND:20240308T010000
LOCATION:
SUMMARY:Elite World Hotels &#038\; Resort’ta MezeFest
END:VEVENT
END:VCALENDAR
