BEGIN:VCALENDAR
PRODID:-//104.21.33.82//NONSGML iCalcreator 2.6//
VERSION:2.0
BEGIN:VEVENT
UID:20260426T030012CEST-6970VvdEla@104.21.33.82
DTSTAMP:20260426T010012Z
CATEGORIES:Events
DESCRIPTION:
DTSTART:20240705T110000
DTEND:20240714T200000
LOCATION:İstiklal\, Chateau Kalpak Vineyards\, Tour & Degustation by Reser
 vation Only\, No food service\, Gelibolu Yolu\, Şarköy/Tekirdağ\, Türk
 iye
SUMMARY:7. Uluslararası Chateau Kalpak Sanat Festivali
END:VEVENT
END:VCALENDAR
