BEGIN:VCALENDAR
PRODID:-//104.21.33.82//NONSGML iCalcreator 2.6//
VERSION:2.0
BEGIN:VEVENT
UID:20260425T174236CEST-4792abhMd0@104.21.33.82
DTSTAMP:20260425T154236Z
CATEGORIES:Events
DESCRIPTION:
DTSTART:20110412T130000
DTEND:20110412T200000
LOCATION:Belirtilen satış noktalarında
SUMMARY:Ben&#038\;Jerry&#8217\;s Bedava Dondurma Günü
END:VEVENT
END:VCALENDAR
